Workbook
Name Drug: Lists!$A$2:$A$12
Name LegalDef: Lists!#REF!
Name mile: Lists!$C$2:$C$17
Name yn: Lists!$E$2:$E$3

Sheet Study Budget
I1: HIDDEN COLUMNS FOR FMV ASSESSMENT
A3: Investigator Sponsored Research Proposal Budget Template | I3: INSTRUCTIONS: Unhide all tabs to reveal tabs for FMV data entry. Enter data in cells J6, J7, L6, and L7 based on data from MARS. Enter pts for clinical studies and assays or animals for non-clinical Review budget for any inserted lines and update formulas in the total column to include these items. Review any details on subsequent tabs or attachments provided by the site. FMV assessment should be performed by linking to rates on the FMV Data tab or entering appropriate rates/costs into the cells below. All data used in the FMV assessment should be included or described in the FMV Data tab. Required clarifications should be requested during budget review. When the budget review is complete, create the Contract Budget and Deliverables Table following the instructions on those tabs. Save final FMV assessment ("XXXXX_FMV"). Save a copy of the final FMV assessment, re-hide all tabs except "Study Budget" and "Addtl Detail" tabs, hide col H through L in the Study Budget and engage protection of the workbook and the worksheet ("XXXXX_Final Budget"). Document the budget review in MARS and upload both files there along with any documents that support the review / assessment.
A4: Biogen will only fund reasonable and customary services for the study (e.g. EDSS, MRI, Statistical Analysis, Publication Fees, Laboratory Tests, etc.) that are not standard of care. Personnel costs must be expressed as an hourly rate per function / person / role. Equipment and electronics requests will not be funded.
A6: INSTRUCTIONS: 1. Please enter Sponsor-Investigator name and currency in the space required. 2. The following budget category sections are provided: Lab / Material Costs, Clinical Procedure / Assessment Costs, Personnel Costs, Other Site Costs, Vendor / Pass-Through Costs, Overhead, Invoiceable Costs. 3. In each section, complete white cells by entering units and unit costs, hours and hourly rates, or total cost as directed - the line item cost will calculate based on what is entered. Insert lines as needed before the last line in each section. Note if Overhead is applied to each line by choosing YES or NO in column E. Enter notes or comments in columns G only if needed. If there are no costs in a section, leave it blank. 4. Enter the institutional overhead rate as a percent where noted - OH percentage over 30% requires a documented justification to be submitted along with the budget. 5. If funding is being provided by multiple parties covering the entire study budget, indicate the percent requested from Biogen. 6. The total in the "Total Funding Requested" cell should be entered in MARS where "Total Funding Requested" is to be entered. 7. For an AMENDMENT request, be sure you are using the most currently approved budget from MARS and redline / highlight all changes including new or deleted line items or changes in units / hours or unit cost / hourly rates.
A8: Sponsor-Investigator | I8: EST. STUDY START DATE | K8: EST. FSR DATE
A9: Currency: | I9: STUDY TRACKING NUMBER: | K9: NUMBER OF SITES
A10: Number of Study Participants
I11: FMV Assessment
A12: Lab Assements/Material Costs | G12: Comments | I12: FMV Rate | J12: FMV Total Cost | M12: Comments
A13: Examples include lab consumables, reagents, animals, materials and supplies (itemized) | B13: # Units | C13: Unit Cost | D13: Total Cost | E13: OH
D14: =B14*C14 -> 0 | J14: =I14*B14 -> 0
D15: =B15*C15 -> 0 | J15: =I15*B14 -> 0
D16: =B16*C16 -> 0 | J16: =I16*B15 -> 0
D17: =B17*C17 -> 0 | J17: =I17*B16 -> 0
D18: =B18*C18 -> 0 | J18: =I18*B17 -> 0
D19: =B19*C19 -> 0 | J19: =I19*B18 -> 0
D20: =B20*C20 -> 0 | J20: =I20*B19 -> 0
D21: =B21*C21 -> 0 | J21: =I21*B20 -> 0
D22: =B22*C22 -> 0 | J22: =I22*B21 -> 0
D23: =B23*C23 -> 0 | J23: =I23*B22 -> 0
A24: Total Lab / Material Costs | D24: =SUM(D14:D23) -> 0 | E24: =SUMIF(E14:E23,"=Yes",D14:D23) -> 0 | J24: =SUM(J14:J23) -> 0
A26: Per Participant Clinical Procedure / Assessment Costs | I26: FMV Rate | J26: FMV Total Cost | M26: Comments
A27: Examples of clinical procedures / assessments include medical history, tests, imaging, PRO, etc. | B27: # Units Per Participant | C27: Unit Cost | D27: Total Cost | E27: OH
D28: =B28*C28*$B$10 -> 0 | J28: =I28*B28 -> 0
D29: =B29*C29*$B$10 -> 0 | J29: =I29*B29 -> 0
D30: =B30*C30*$B$10 -> 0 | J30: =I30*B30 -> 0
D31: =B31*C31*$B$10 -> 0 | J31: =I31*B31 -> 0
D32: =B32*C32*$B$10 -> 0 | J32: =I32*B32 -> 0
D33: =B33*C33*$B$10 -> 0 | J33: =I33*B33 -> 0
D34: =B34*C34*$B$10 -> 0 | J34: =I34*B34 -> 0
D35: =B35*C35*$B$10 -> 0 | J35: =I35*B35 -> 0
D36: =B36*C36*$B$10 -> 0 | J36: =I36*B36 -> 0
D37: =B37*C37*$B$10 -> 0 | J37: =I37*B37 -> 0
D38: =B38*C38*$B$10 -> 0 | J38: =I38*B38 -> 0
D39: =B39*C39*$B$10 -> 0 | J39: =I39*B39 -> 0
A40: Total Procedural Costs | D40: =SUM(D28:D39) -> 0 | E40: =SUMIF(E28:E39,"=Yes",D28:D39) -> 0 | J40: =SUM(J28:J39) -> 0
A42: Personnel Costs
A43: Examples of overall cost of personnel include Study Coordinator, Principal Investigator, Statistician, etc. | B43: # Hours | C43: Hourly Rate | D43: Total Cost | E43: OH | I43: FMV Rate | J43: FMV Total Cost | K43: FTEs Requested | L43: Per Participant Hours | M43: Comments
D44: =B44*C44 -> 0 | J44: =I44*B44 -> 0 | K44: =IFERROR(B44/(173.33333*(($M$8-$J$8)/30)),"TBD") -> TBD | L44: =B44/$B$10 -> #DIV/0!
D45: =B45*C45 -> 0 | J45: =I45*B45 -> 0 | K45: =IFERROR(B45/(173.33333*(($M$8-$J$8)/30)),"TBD") -> TBD | L45: =B45/$B$10 -> #DIV/0!
...

Sheet Addtl Detail If Required

Sheet FMV Data

Sheet Sponsor Inv. Budget Summary
B2: STUDY FUNDING SUMMARY
B3: The below represents the summary of all costs that Biogen confirmed to demonstrate alignment to fair market value and will fund in order to support the study. | H3: INSTRUCTIONS: 1. Confirm all values are correctly pulling from the study budget. Adjust if there are multiple sites to reflect only SPONSOR INVESTIGATOR costs. 2. If there is a "SPILL" error in the Invoiceable section, this indicates that rows were added in the Budget - add the same number of rows here to fix the error and pull in the data 3. Determine the non-refundable start-up costs as follows - total cost should be no more than 10% of the total budget and/or no more than 20k: a. Any fees in the budget specific to start-up (if this = 10% of the budget or 20k, stop here) b. 5-10% of the Material and Personnel costs and OH 4. Row 38/39 - remove red formatting from "enrollment" and "participants" for enrolling studies or confirm an alternate term (assay/animal/analysis) and enter it. Adjust the number in cell 39C to match the number of the replacement term. If there is nothing that makes sense here, delete row 39 and just leave 38 non-specified. 5. Extract a copy of this tab and remove the instructions (delete) and formulas (copy / paste values) to send to contracting
B4: INVESTIGATOR: | C4: ='Study Budget'!B8 -> 0 | D4: STUDY TRACKING NUMBER | E4: ='Study Budget'!J9 -> 0
B5: CURRENCY: | C5: ='Study Budget'!B9 -> 0 | D5: PLANNED PARTICIPANTS | E5: ='Study Budget'!B10 -> 0
B7: Lab/Material Costs | E7: ='Study Budget'!D24*'Study Budget'!D106 -> 0
B9: Clinical Procedure / Assessment Costs | E9: ='Study Budget'!D40*'Study Budget'!D106 -> 0
B11: Personnel Costs | E11: ='Study Budget'!D62*'Study Budget'!D106 -> 0
B13: Other Site Costs | E13: ='Study Budget'!D80*'Study Budget'!D106 -> 0
B15: Site Vendor / Pass Through Costs | E15: =SUMIF('Study Budget'!C84:C91,"=NO",'Study Budget'!D84:D91)*'Study Budget'!D106 -> 0
B17: Indirect Costs (Institutional Overhead) | E17: ='Study Budget'!D97 -> 0
B18: Total Costs that are subject to overhead | E18: ='Study Budget'!D95*'Study Budget'!D106 -> 0
B19: Institutional Overhead | E19: ='Study Budget'!D96 -> 0
B21: Estimated Invoiceable Costs (One-time costs to be invoiced as incurred/agreed) | E21: ='Study Budget'!D103 -> 0 | G21: If there are more than 3 Invoiceable lines, ensure they are added here.
B22: ='Study Budget'!A100 -> Publication costs (journal and related fees to be invoiced as incurred) | E22: ='Study Budget'!D100 -> 0 | G22: Delete if 0
B23: ='Study Budget'!A101 -> - | E23: ='Study Budget'!D101 -> 0 | G23: Delete if 0
B24: ='Study Budget'!A102 -> - | E24: ='Study Budget'!D102 -> 0 | G24: Delete if 0
B26: Award Summary
B27: Non-Refundable Start-up Costs
B28: Costs to be reconciled if enrollment is reduced | E28: =(E7+E9+E11+E13+E15+E17)-E27 -> 0
B29: Est. Cost Per Participant: | E29: =IFERROR(E28/E5,"TBD") -> TBD
B30: Study Funding Awarded | E30: =SUM(E27:E28) -> 0
B31: Invoiceable Costs Up To (to be invoiced as they occur/based on actual spend) | E31: =E21 -> 0
B32: Total Study Financial Support | E32: =E30+E31 -> 0
B33: Biogen Payments to Third Parties | E33: =SUMIF('Study Budget'!C84:C91,"=YES",'Study Budget'!D84:D91) -> 0 | G33: Delete if 0

Sheet Deliverables Table
B1: Deliverables and Milestones
B3: Funding and Drug | K3: INSTRUCTIONS: 1. Confirm all values are correctly pulling from the study budget. Adjust if there are multiple sites to reflect only SPONSOR INVESTIGATOR costs. 2. Enter the product request from MARS if applicable 3. Enter deliverables provided by the Study Lead 4. Create milestones by choosing from the standard list (preferred) or entering specific milestones - add rows and adjust percentages as needed - confirm that cell E25 is green, indicating the milestone amounts add to the total funding above 5. Extract a copy of the tab and remove the instructions (delete) and formulas in rows 4 and 5 (copy / paste values) to send to contracting
B4: Indicate the amount of funding (use appropriate currency) | C4: ='Sponsor Inv. Budget Summary'!E30 -> 0
B5: Costs to be invoiced as they occur up to a total of | C5: ='Sponsor Inv. Budget Summary'!E31 -> 0
B7: Indicate the drug (by brand name) or other product requested and the amount. Indicate any required wording for product delivery after consultation with Clinical Drug Supply. | C7: Product Requested: | D7: Amount: | E7: Specify / Requested Format (if non-standard):
B10: Study Deliverables
B11: 1
B12: 2
B13: 3
B14: 4 | C14: Final Report
B17: Payment Milestones
B18: Choose a milestone from the drop-down or enter one. The last milestone must always be delivery of a final study report.
C19: Milestone | D19: % | E19: Amt. | F19: Est Date
D20: 0.15 | E20: =D20*$C$4 -> 0
D21: 0.2 | E21: =D21*$C$4 -> 0
D22: 0.2 | E22: =D22*$C$4 -> 0
D23: 0.2 | E23: =D23*$C$4 -> 0
D24: 0.25 | E24: =D24*$C$4 -> 0
C25: MILESTONE TOTAL | D25: =SUM(D20:D24) -> 1 | E25: =SUM(SUM(E20:E24)) -> 0
C26: INVOICABLE TOTAL | E26: =C5 -> 0
C27: TOTAL CONTRACT VALUE | E27: =E25+E26 -> 0

Sheet Second Site Budget Summary
B2: STUDY FUNDING SUMMARY
B3: The below represents the summary of all costs that Biogen confirmed to demonstrate alignment to fair market value and will fund in order to support the study. | H3: INSTRUCTIONS: 1. Link or enter all secondary site costs for this site from the study budget. 2. Determine the non-refundable start-up costs as follows - total cost should be no more than 10% of the total budget and/or no more than 20k: a. Any fees in the budget specific to start-up (if this = 10% of the budget or 20k, stop here) b. 5-10% of the Material and Personnel costs and OH 3. Row 38/39 - remove red formatting from "enrollment" and "participants" for enrolling studies or confirm an alternate term (assay/animal/analysis) and enter it. Adjust the number in cell 39C to match the number of the replacement term. If there is nothing that makes sense here, delete row 39 and just leave 38 non-specified. 4. Extract a copy of this tab and remove the instructions (delete) and formulas (copy / paste values) to send to contracting 5. Repeat as needed for each secondary site
B4: INVESTIGATOR: | C4: ='Study Budget'!B8 -> 0
B5: STUDY TRACKING NUMBER | C5: ='Study Budget'!J9 -> 0
B6: CURRENCY: | C6: ='Study Budget'!B9 -> 0
B7: PLANNED PARTICIPANTS | C7: ='Study Budget'!B10 -> 0
B9: Lab/Material Costs
B10: Total | E10: ='Study Budget'!D24*'Study Budget'!D106 -> 0
B12: Clinical Procedure / Assessment Costs
B13: Total | E13: ='Study Budget'!D40*'Study Budget'!D106 -> 0
B15: Personnel Costs
B16: Total | E16: ='Study Budget'!D62*'Study Budget'!D106 -> 0
B18: Other Site Costs
B19: Total | E19: ='Study Budget'!D80*'Study Budget'!D106 -> 0
B21: Site Vendor / Pass Through Costs
B22: Total | E22: =SUMIF('Study Budget'!C84:C91,"=NO",'Study Budget'!D84:D91)*'Study Budget'!D106 -> 0
B24: Indirect Costs (Institutional Overhead)
B25: Total Costs that are subject to overhead | E25: ='Study Budget'!D95*'Study Budget'!D106 -> 0
B26: Institutional Overhead | E26: ='Study Budget'!D96 -> 0
B27: Total | E27: ='Study Budget'!D97 -> 0
B29: Estimated Invoiceable Costs (One-time costs to be invoiced as incurred/agreed)
B30: {=inv[Estimated Invoiceable Costs (One-time costs to be invoiced as incurred/agreed) ]} -> Publication costs (journal and related fees to be invoiced as incurred) | E30: {=inv[Column3]*'Study Budget'!D106} -> 0
B31: - | E31: 0
B32: - | E32: 0
B33: Total | E33: =SUM(E30:E30) -> 0
B35: Award Summary
B36: Non-Refundable Start-up Costs
B37: Costs to be reconciled if enrollment is reduced | E37: =(E10+E13+E16+E19+E22+E27) -> 0
B38: Planned Participants | C38: =C7 -> 0 | D38: Est. Cost Per Participant: | E38: =IFERROR(E37/C38,"TBD") -> TBD
B39: Study Funding Awarded | E39: =SUM(E36:E37) -> 0
B40: Invoiceable Costs Up To (to be invoiced as they occur/based on actual spend) | E40: =E33 -> 0
B41: Biogen Direct Contribution | E41: =SUMIF('Study Budget'!C84:C91,"=YES",'Study Budget'!D84:D91) -> 0
B42: Total Study Financial Support | E42: =E39+E40 -> 0

Sheet Second Site Deliverables
B1: Secondary Site Deliverables and Milestones
B3: Funding and Drug
B4: Indicate the amount of funding (use appropriate currency) | C4: ='Second Site Budget Summary'!E39 -> 0
B5: Costs to be invoiced as they occur up to a total of | C5: ='Second Site Budget Summary'!E40 -> 0
B7: Indicate the drug (by brand name) or other product requested and the amount. Indicate any required wording for product delivery after consultation with Clinical Drug Supply. | C7: Product Requested: | D7: Amount: | E7: Specify / Requested Format (if non-standard):
B10: Study Deliverables
B11: 1
B12: 2
B13: 3
B14: 4 | C14: Final Report
B17: Payment Milestones
B18: Choose a milestone from the drop-down or enter one. The last milestone must always be delivery of a final study report.
C19: Milestone | D19: % | E19: Amt. | F19: Est Date
D20: 0.15 | E20: =D20*$C$4 -> 0
D21: 0.2 | E21: =D21*$C$4 -> 0
D22: 0.2 | E22: =D22*$C$4 -> 0
D23: 0.2 | E23: =D23*$C$4 -> 0
D24: 0.25 | E24: =D24*$C$4 -> 0
C25: MILESTONE TOTAL | D25: =SUM(D20:D24) -> 1 | E25: =SUM(SUM(E20:E24)) -> 0
C26: INVOICABLE TOTAL | E26: =C5 -> 0
C27: TOTAL CONTRACT VALUE | E27: =E25+E26 -> 0

Sheet Lists
A1: NAME = DRUG | C1: NAME = mile | E1: NAME = YN
A2: Aducanumab | C2: Contract executed | E2: Yes
A3: Avonex | C3: Ethics / IRB approval | E3: No
A4: Plegridy | C4: Contract signed / EC approval
A5: Tecfidera | C5: Progress report at 25% patients enrolled
A6: Tysabri | C6: Progress report at 50% patients enrolled
A7: Antibodies (specify) | C7: Progress report at 75% patients enrolled
A8: Spinraza | C8: Progress report at 100% patients enrolled
A9: Benepali | C9: Progress report 1 year after LPI
A10: Flixabi | C10: Progress report at last patient visit
A11: Imraldi | C11: Progress report
A12: Other (specify) | C12: Data extract
C13: Annual report
C14: 6-month report
C15: Interim report
C16: Final report
